BEGIN:VCALENDAR
VERSION:2.0
PRODID:-//Automotive-Oldtimers-Club - ECPv6.0.13.1//NONSGML v1.0//EN
CALSCALE:GREGORIAN
METHOD:PUBLISH
X-ORIGINAL-URL:https://automotive-oldtimers-club.be
X-WR-CALDESC:évènements pour Automotive-Oldtimers-Club
REFRESH-INTERVAL;VALUE=DURATION:PT1H
X-Robots-Tag:noindex
X-PUBLISHED-TTL:PT1H
BEGIN:VTIMEZONE
TZID:Europe/Paris
BEGIN:DAYLIGHT
TZOFFSETFROM:+0100
TZOFFSETTO:+0200
TZNAME:CEST
DTSTART:20250330T010000
END:DAYLIGHT
BEGIN:STANDARD
TZOFFSETFROM:+0200
TZOFFSETTO:+0100
TZNAME:CET
DTSTART:20251026T010000
END:STANDARD
END:VTIMEZONE
BEGIN:VEVENT
DTSTART;TZID=Europe/Paris:20250308T080000
DTEND;TZID=Europe/Paris:20250308T170000
DTSTAMP:20260423T165155
CREATED:20250308T220948Z
LAST-MODIFIED:20250308T220948Z
UID:8211-1741420800-1741453200@automotive-oldtimers-club.be
SUMMARY:AOC - Réunion
DESCRIPTION:Texte à venir
URL:https://automotive-oldtimers-club.be/event/aoc-reunion-7/
ATTACH;FMTTYPE=image/jpeg:https://automotive-oldtimers-club.be/wp-content/uploads/2024/10/petit-logo-aoc-reunion.jpg
END:VEVENT
BEGIN:VEVENT
DTSTART;TZID=Europe/Paris:20250308T080000
DTEND;TZID=Europe/Paris:20250308T170000
DTSTAMP:20260423T165155
CREATED:20250308T221642Z
LAST-MODIFIED:20250308T221642Z
UID:8220-1741420800-1741453200@automotive-oldtimers-club.be
SUMMARY:AOC - Réunion
DESCRIPTION:Texte à venir
URL:https://automotive-oldtimers-club.be/event/aoc-reunion-8/
ATTACH;FMTTYPE=image/jpeg:https://automotive-oldtimers-club.be/wp-content/uploads/2024/10/petit-logo-aoc-reunion.jpg
END:VEVENT
BEGIN:VEVENT
DTSTART;TZID=Europe/Paris:20250316T083000
DTEND;TZID=Europe/Paris:20250316T170000
DTSTAMP:20260423T165155
CREATED:20241030T170252Z
LAST-MODIFIED:20241030T171826Z
UID:8149-1742113800-1742144400@automotive-oldtimers-club.be
SUMMARY:Balade à deux francs
DESCRIPTION:Balade à deux francs \nTexte à venir
URL:https://automotive-oldtimers-club.be/event/balade-a-deux-francs/
LOCATION:Chez Nicolas\, Drève des Tilloux\, 9\, Frandeux\, 5580\, Belgique
ATTACH;FMTTYPE=image/jpeg:https://automotive-oldtimers-club.be/wp-content/uploads/2022/02/peugeot-504-A.jpg
END:VEVENT
BEGIN:VEVENT
DTSTART;TZID=Europe/Paris:20250323T090000
DTEND;TZID=Europe/Paris:20250323T170000
DTSTAMP:20260423T165155
CREATED:20241030T171940Z
LAST-MODIFIED:20250223T124934Z
UID:8152-1742720400-1742749200@automotive-oldtimers-club.be
SUMMARY:Télévie
DESCRIPTION:  \nBalade du télévie 2025\nChers passionnés de véhicules anciens\,\nLe dimanche 23 mars 2025\, nous vous invitons à notre 31ème balade Télévie\ntraditionnellement parsemée de questions et de jeux.\nIl n’est plus nécessaire de vous dire que nous comptons beaucoup sur votre\nparticipation afin que cette balade soit une réussite. \nDéroulement de la journée :\nDe 9h00 à 9h45 : accueil des participants et petit déjeuner à la salle Ste Thérèse\,\nrue de Dinant à Rochefort. \nVers 10h00\, départ de la 1ère boucle à travers les petits chemins de nos Ardennes.\nVers 12h30\, repas de midi : apéro\, pâté crudités\, boulettes et dessert\,\npour les enfants : fondus au fromage\, boulette sauce tomate\, dessert \nAprès le repas\, grande tombola\, toutes les enveloppes sont gagnantes.\nVers 15h\, départ de la 2ème boucle.\nDès votre retour et après la correction de vos questionnaires\, remise des prix. \nLe prix pour le petit déjeuner\, l’apéro\, l’entrée\, le plat et le dessert est de 30\,00 € par personne.\n(15€ pour les enfants de moins de 12 ans)\nLes frais de participation par voiture s’élèvent à 5€.\nSoit 65\,00 € pour une voiture avec 2 adultes. \nVous voudrez bien verser cette somme au compte :\nBE02 1030 1737 9640 — Lecharlier à 5590 Ciney\nDès la réception de votre paiement au plus tard pour le 15 mars 2024\, votre inscription sera\nconfirmée. \n  \nPDF inscription : Ici
URL:https://automotive-oldtimers-club.be/event/televie/
LOCATION:Salle Sainte Thérèse\, Rue de Dinant\, Rochefort\, 5580\, Belgique
ATTACH;FMTTYPE=image/jpeg:https://automotive-oldtimers-club.be/wp-content/uploads/2024/09/IMG_4421-rotated.jpg
END:VEVENT
END:VCALENDAR