BEGIN:VCALENDAR
VERSION:2.0
PRODID:-//Automotive-Oldtimers-Club - ECPv6.0.13.1//NONSGML v1.0//EN
CALSCALE:GREGORIAN
METHOD:PUBLISH
X-ORIGINAL-URL:https://automotive-oldtimers-club.be
X-WR-CALDESC:évènements pour Automotive-Oldtimers-Club
REFRESH-INTERVAL;VALUE=DURATION:PT1H
X-Robots-Tag:noindex
X-PUBLISHED-TTL:PT1H
BEGIN:VTIMEZONE
TZID:Europe/Paris
BEGIN:DAYLIGHT
TZOFFSETFROM:+0100
TZOFFSETTO:+0200
TZNAME:CEST
DTSTART:20250330T010000
END:DAYLIGHT
BEGIN:STANDARD
TZOFFSETFROM:+0200
TZOFFSETTO:+0100
TZNAME:CET
DTSTART:20251026T010000
END:STANDARD
END:VTIMEZONE
BEGIN:VEVENT
DTSTART;TZID=Europe/Paris:20250221T200000
DTEND;TZID=Europe/Paris:20250221T223000
DTSTAMP:20260423T181901
CREATED:20241030T163302Z
LAST-MODIFIED:20250210T131418Z
UID:8110-1740168000-1740177000@automotive-oldtimers-club.be
SUMMARY:AOC - Réunion
DESCRIPTION:Réunion de l’Automotive Oldtimers Club \n21-02-2025 \nAssemblée générale et réunion plénière \nOrdre du jour \n\nLieu : Rue de la Ramée\, 2 à Forrières (près de l’église) \nHeure : 20h00 \n\n0)Drink de rentrée (première boisson offerte) \n1) Vérification du quorum (membres effectifs\, en ordre de cotisation\, présents ou représentés) \n2) Changement de secrétaire \n3) Trésorerie 2024 -Présentation des comptes et décharge des administrateurs \n4) Mise à jour du règlement (pour inclure la notion d’assurance en responsabilité civile) \n5) Proposition de budget \n6) Démissions et Recrutements \n7) Rétrospective de l’année 2024 \n8) Propositions d’activités pour 2025 \n9) Echanges et points divers
URL:https://automotive-oldtimers-club.be/event/aoc-reunion-4/
LOCATION:Forrières
ATTACH;FMTTYPE=image/jpeg:https://automotive-oldtimers-club.be/wp-content/uploads/2022/12/petit-logo-aoc-reunion.jpg
END:VEVENT
END:VCALENDAR