BEGIN:VCALENDAR
VERSION:2.0
PRODID:-//Automotive-Oldtimers-Club - ECPv6.0.13.1//NONSGML v1.0//EN
CALSCALE:GREGORIAN
METHOD:PUBLISH
X-ORIGINAL-URL:https://automotive-oldtimers-club.be
X-WR-CALDESC:évènements pour Automotive-Oldtimers-Club
REFRESH-INTERVAL;VALUE=DURATION:PT1H
X-Robots-Tag:noindex
X-PUBLISHED-TTL:PT1H
BEGIN:VTIMEZONE
TZID:Europe/Paris
BEGIN:DAYLIGHT
TZOFFSETFROM:+0100
TZOFFSETTO:+0200
TZNAME:CEST
DTSTART:20240331T010000
END:DAYLIGHT
BEGIN:STANDARD
TZOFFSETFROM:+0200
TZOFFSETTO:+0100
TZNAME:CET
DTSTART:20241027T010000
END:STANDARD
END:VTIMEZONE
BEGIN:VEVENT
DTSTART;TZID=Europe/Paris:20241006T083000
DTEND;TZID=Europe/Paris:20241006T170000
DTSTAMP:20260423T235441
CREATED:20231113T153332Z
LAST-MODIFIED:20240916T172459Z
UID:7233-1728203400-1728234000@automotive-oldtimers-club.be
SUMMARY:Balade d'automne VC Marche
DESCRIPTION:Dimanche 06 OCTOBRE 2024 \nLA BALADE D’AUTOMNE \nDU VOLLEY CLUB MARCHE \n9ème édition \n Pour voitures anciennes (+ de 25 ans) \nInformations pratiques :  \nRendez-vous à la salle de l’Institut Saint Roch\, rue Saint Roch\, 7  à 6900 Marche-en-Famenne. \nà Accueil dès 8h30       à  Départ à partir de 9h. \nParticipation : 50 € par véhicule\, chauffeur compris  – 28 € par accompagnant  – 13 € par enfant de – de 12ans. \nDéjeuner\, apéros en cours de route\, repas en fin de parcours à la salle de l’Institut Saint Roch\, rue Saint Roch\, 7 à 6900 Marche-en-Famenne à partir de 14h\, repas\, roadbook et plaque  rallye compris. \nInscription effective dès réception du versement au compte : \nKeytrade : BE86 6511 5927 8450 – BIC : KEYTBEBB \nRenseignements : Pierre Dumont : 0472/54.66.24    du***********@gm***.com
URL:https://automotive-oldtimers-club.be/event/balade-dautomne-vc-marche-2/
LOCATION:Salle de l’Institut Saint Roch\, Rue Saint Roch\, 7\, Marche-enFamenne\, 6900\, Belgique
ATTACH;FMTTYPE=image/jpeg:https://automotive-oldtimers-club.be/wp-content/uploads/2023/10/2023-10-01-11h59m39-1.jpg
END:VEVENT
BEGIN:VEVENT
DTSTART;TZID=Europe/Paris:20241025T200000
DTEND;TZID=Europe/Paris:20241025T223000
DTSTAMP:20260423T235441
CREATED:20231113T153806Z
LAST-MODIFIED:20231113T153806Z
UID:7239-1729886400-1729895400@automotive-oldtimers-club.be
SUMMARY:AOC - Réunion
DESCRIPTION:AOC – Réunion \nTexte à venir
URL:https://automotive-oldtimers-club.be/event/aoc-reunion-3/
LOCATION:Forrières
ATTACH;FMTTYPE=image/jpeg:https://automotive-oldtimers-club.be/wp-content/uploads/2022/12/petit-logo-aoc-reunion.jpg
END:VEVENT
END:VCALENDAR