BEGIN:VCALENDAR
VERSION:2.0
PRODID:-//Automotive-Oldtimers-Club - ECPv6.0.13.1//NONSGML v1.0//EN
CALSCALE:GREGORIAN
METHOD:PUBLISH
X-ORIGINAL-URL:https://automotive-oldtimers-club.be
X-WR-CALDESC:évènements pour Automotive-Oldtimers-Club
REFRESH-INTERVAL;VALUE=DURATION:PT1H
X-Robots-Tag:noindex
X-PUBLISHED-TTL:PT1H
BEGIN:VTIMEZONE
TZID:Europe/Paris
BEGIN:DAYLIGHT
TZOFFSETFROM:+0100
TZOFFSETTO:+0200
TZNAME:CEST
DTSTART:20240331T010000
END:DAYLIGHT
BEGIN:STANDARD
TZOFFSETFROM:+0200
TZOFFSETTO:+0100
TZNAME:CET
DTSTART:20241027T010000
END:STANDARD
END:VTIMEZONE
BEGIN:VEVENT
DTSTART;TZID=Europe/Paris:20240908T080000
DTEND;TZID=Europe/Paris:20240908T170000
DTSTAMP:20260424T012639
CREATED:20231113T153122Z
LAST-MODIFIED:20240603T194155Z
UID:7230-1725782400-1725814800@automotive-oldtimers-club.be
SUMMARY:Rallye Haute Lesse
DESCRIPTION:Rallye Haute Lesse \n \n  \n \n  \n \nTélécharger le document d’inscription en PDF :  ICI \nTélécharger le document d’invitation en PDF : ICI
URL:https://automotive-oldtimers-club.be/event/rallye-haute-lesse/
LOCATION:Libin Salle « Notre Maison »\, Rle des Messes\, Libin\, 6890\, Belgique
ATTACH;FMTTYPE=image/jpeg:https://automotive-oldtimers-club.be/wp-content/uploads/2022/09/IMG_9616-1-rotated.jpg
END:VEVENT
END:VCALENDAR