BEGIN:VCALENDAR
VERSION:2.0
PRODID:-//Automotive-Oldtimers-Club - ECPv6.0.13.1//NONSGML v1.0//EN
CALSCALE:GREGORIAN
METHOD:PUBLISH
X-WR-CALNAME:Automotive-Oldtimers-Club
X-ORIGINAL-URL:https://automotive-oldtimers-club.be
X-WR-CALDESC:évènements pour Automotive-Oldtimers-Club
REFRESH-INTERVAL;VALUE=DURATION:PT1H
X-Robots-Tag:noindex
X-PUBLISHED-TTL:PT1H
BEGIN:VTIMEZONE
TZID:Europe/Paris
BEGIN:DAYLIGHT
TZOFFSETFROM:+0100
TZOFFSETTO:+0200
TZNAME:CEST
DTSTART:20240331T010000
END:DAYLIGHT
BEGIN:STANDARD
TZOFFSETFROM:+0200
TZOFFSETTO:+0100
TZNAME:CET
DTSTART:20241027T010000
END:STANDARD
END:VTIMEZONE
BEGIN:VEVENT
DTSTART;TZID=Europe/Paris:20240804T090000
DTEND;TZID=Europe/Paris:20240804T170000
DTSTAMP:20260424T024702
CREATED:20240717T194523Z
LAST-MODIFIED:20240717T194910Z
UID:7810-1722762000-1722790800@automotive-oldtimers-club.be
SUMMARY:Le rallye de Quat'sous Le quat'août (AOC André et Patrick)
DESCRIPTION:  \n  \n \n  \n  \nDocument d’inscription en PDF : Ici
URL:https://automotive-oldtimers-club.be/event/le-rallye-de-quatsous-le-quataout-aoc-andre-et-patrick/
LOCATION:Nassogne\, Place Communale\, Nassogne\, 6950\, Belgique
ATTACH;FMTTYPE=image/png:https://automotive-oldtimers-club.be/wp-content/uploads/2024/06/2024-06-11_22-55-49.png
END:VEVENT
BEGIN:VEVENT
DTSTART;TZID=Europe/Paris:20240818T090000
DTEND;TZID=Europe/Paris:20240818T170000
DTSTAMP:20260424T024702
CREATED:20231113T150652Z
LAST-MODIFIED:20240621T181212Z
UID:7224-1723971600-1724000400@automotive-oldtimers-club.be
SUMMARY:AOC - "De chapelles en châteaux ... sur les routes hesigonnes et condruziennes"
DESCRIPTION:  \nInscription en  PDF : Ici \nInscription en Word : Ici
URL:https://automotive-oldtimers-club.be/event/aoc-la-balade-de-patric-et-laurence/
LOCATION:Boulangerie « Point chaud »\, Route de Marche 24\, Tinlot\, 4557\, Belgique
ATTACH;FMTTYPE=image/jpeg:https://automotive-oldtimers-club.be/wp-content/uploads/2022/12/petit-logo-aoc-balade-club.jpg
END:VEVENT
BEGIN:VEVENT
DTSTART;TZID=Europe/Paris:20240830T080000
DTEND;TZID=Europe/Paris:20240830T170000
DTSTAMP:20260424T024702
CREATED:20231113T152623Z
LAST-MODIFIED:20240719T072139Z
UID:7227-1725004800-1725037200@automotive-oldtimers-club.be
SUMMARY:AOC - Réunion -> ANNULATION
DESCRIPTION:  \n  \n-> ANNULATION <-\nAOC – Réunion \nBonjour à toutes et tous\, \nComme vous avez pu le constater le mois d’août est assez chargé au niveau des activités du club. \nC’est d’ailleurs très bien que plusieurs membres prennent l’initiative d’organiser des balades. \nAprès réflexion\, il nous est apparu que la réunion du vendredi 30 août était un peu de trop\, d’autant plus qu’elle obligerait certains membres (notamment les plus éloignés géographiquement) à faire un choix entre cette réunion et l’activité prévue le lendemain. \nNous avons donc décidé de supprimer cette réunion au profit de la participation aux activités des 4\, 18 et 31 août. \nAu plaisir de vous y voir nombreux. \nEn attendant profitez bien du soleil revenu. \nJean-Marie
URL:https://automotive-oldtimers-club.be/event/aoc-reunion-2/
LOCATION:Forrières
ATTACH;FMTTYPE=image/jpeg:https://automotive-oldtimers-club.be/wp-content/uploads/2022/12/petit-logo-aoc-reunion.jpg
END:VEVENT
BEGIN:VEVENT
DTSTART;TZID=Europe/Paris:20240831T080000
DTEND;TZID=Europe/Paris:20240831T170000
DTSTAMP:20260424T024702
CREATED:20240611T205012Z
LAST-MODIFIED:20240624T185443Z
UID:7667-1725091200-1725123600@automotive-oldtimers-club.be
SUMMARY:Aérodrome temporaire à Vresse sur Semois - Organisation Philippe Jeanbaptiste
DESCRIPTION:Aérodrome temporaire à Vresse sur Semois \nLe Piper Club de France organise le samedi 31 aout un aérodrome temporaire qui acceuillera des avions historiques (actuellement 23 inscrits) ainsi que des véhicules historiques.\nJe pense que ce serait un bon but de balade avec nos oldtimers.\nJe connais bien l’organisateur belge et lui ai demandé la possibilité de réserver un parking spécifique pour nous et d’autres clubs. Les réponses de l’organisateur et du bourgmestre de Vresse sur Semois ont été enthousiastes. \nLe but de cette communication est d’avoir une estimation du nombre de participants afin de délimiter ce parking qui nous serait réservé. Les modalités de notre déplacement seront envisagées par la suite. \nDonc si vous voulez bien me faire savoir si cela soulève votre intérêt\, j’aurais une idée de ce qu’il faut réserver. \nA bientôt sur la route \nPhilippe Jeanbaptiste \n 
URL:https://automotive-oldtimers-club.be/event/aerodrome-temporaire-a-villers-s-semois-organisation-philippe-jeanbaptiste/
LOCATION:Vresse-sur-Semois\, Belgique
ATTACH;FMTTYPE=image/png:https://automotive-oldtimers-club.be/wp-content/uploads/2024/06/2024-06-11_22-55-49.png
ORGANIZER;CN="Philippe%20JeanBaptiste":MAILTO:phil.jeanbaptiste@gmail.com
END:VEVENT
END:VCALENDAR