BEGIN:VCALENDAR
VERSION:2.0
PRODID:-//Automotive-Oldtimers-Club - ECPv6.0.13.1//NONSGML v1.0//EN
CALSCALE:GREGORIAN
METHOD:PUBLISH
X-WR-CALNAME:Automotive-Oldtimers-Club
X-ORIGINAL-URL:https://automotive-oldtimers-club.be
X-WR-CALDESC:évènements pour Automotive-Oldtimers-Club
REFRESH-INTERVAL;VALUE=DURATION:PT1H
X-Robots-Tag:noindex
X-PUBLISHED-TTL:PT1H
BEGIN:VTIMEZONE
TZID:Europe/Paris
BEGIN:DAYLIGHT
TZOFFSETFROM:+0100
TZOFFSETTO:+0200
TZNAME:CEST
DTSTART:20230326T010000
END:DAYLIGHT
BEGIN:STANDARD
TZOFFSETFROM:+0200
TZOFFSETTO:+0100
TZNAME:CET
DTSTART:20231029T010000
END:STANDARD
END:VTIMEZONE
BEGIN:VEVENT
DTSTART;TZID=Europe/Paris:20231215T193000
DTEND;TZID=Europe/Paris:20231215T220000
DTSTAMP:20260424T135709
CREATED:20221220T155548Z
LAST-MODIFIED:20230926T180021Z
UID:6467-1702668600-1702677600@automotive-oldtimers-club.be
SUMMARY:Repas de fin d'année
DESCRIPTION:  \n  \nBon de réservation : Ici
URL:https://automotive-oldtimers-club.be/event/repas-de-fin-dannee/
LOCATION:San Marino\, rue du Thiers 2\, Rochefort\, 5580
ATTACH;FMTTYPE=image/jpeg:https://automotive-oldtimers-club.be/wp-content/uploads/2022/12/Petit-Repas-fin-annee-aoc.jpg
END:VEVENT
END:VCALENDAR