BEGIN:VCALENDAR
VERSION:2.0
PRODID:-//Automotive-Oldtimers-Club - ECPv6.0.13.1//NONSGML v1.0//EN
CALSCALE:GREGORIAN
METHOD:PUBLISH
X-ORIGINAL-URL:https://automotive-oldtimers-club.be
X-WR-CALDESC:évènements pour Automotive-Oldtimers-Club
REFRESH-INTERVAL;VALUE=DURATION:PT1H
X-Robots-Tag:noindex
X-PUBLISHED-TTL:PT1H
BEGIN:VTIMEZONE
TZID:Europe/Paris
BEGIN:DAYLIGHT
TZOFFSETFROM:+0100
TZOFFSETTO:+0200
TZNAME:CEST
DTSTART:20230326T010000
END:DAYLIGHT
BEGIN:STANDARD
TZOFFSETFROM:+0200
TZOFFSETTO:+0100
TZNAME:CET
DTSTART:20231029T010000
END:STANDARD
END:VTIMEZONE
BEGIN:VEVENT
DTSTART;TZID=Europe/Paris:20230507T080000
DTEND;TZID=Europe/Paris:20230507T170000
DTSTAMP:20260425T005039
CREATED:20221220T152350Z
LAST-MODIFIED:20230321T181511Z
UID:6422-1683446400-1683478800@automotive-oldtimers-club.be
SUMMARY:RALLYE DE LA CROIX SCAILLE - GEDINNE
DESCRIPTION:RALLYE DE LA CROIX SCAILLE \nVoitures ancêtres de prestiges. \nAu profits des œuvres sociales. Merci \nPour les informations voir directement avec Dominique (Membre 12) ou Jean-Marie. \n \n  \n \n  \nInscription en PDF : Ici
URL:https://automotive-oldtimers-club.be/event/rallye-lc-gedinne/
LOCATION:Graide\, Rue de Gedinne 11 - Salle Aime Gerard\, Graide\, 5555\, Belgique
ATTACH;FMTTYPE=image/jpeg:https://automotive-oldtimers-club.be/wp-content/uploads/2022/12/2023-03-21_19-14-41.jpg
END:VEVENT
BEGIN:VEVENT
DTSTART;TZID=Europe/Paris:20230528T080000
DTEND;TZID=Europe/Paris:20230528T170000
DTSTAMP:20260425T005039
CREATED:20221220T152601Z
LAST-MODIFIED:20230509T090353Z
UID:6426-1685260800-1685293200@automotive-oldtimers-club.be
SUMMARY:Vî Coyons
DESCRIPTION:Vî Coyons
URL:https://automotive-oldtimers-club.be/event/vi-coyons/
LOCATION:Marche en Famenne\, Rue des 3 Bosses (Police) - Vieille route de Marloie\, Marche en Famenne
ATTACH;FMTTYPE=image/jpeg:https://automotive-oldtimers-club.be/wp-content/uploads/2022/12/petit-vi-coyons.jpg
END:VEVENT
END:VCALENDAR