BEGIN:VCALENDAR
VERSION:2.0
PRODID:-//Automotive-Oldtimers-Club - ECPv6.0.13.1//NONSGML v1.0//EN
CALSCALE:GREGORIAN
METHOD:PUBLISH
X-WR-CALNAME:Automotive-Oldtimers-Club
X-ORIGINAL-URL:https://automotive-oldtimers-club.be
X-WR-CALDESC:évènements pour Automotive-Oldtimers-Club
REFRESH-INTERVAL;VALUE=DURATION:PT1H
X-Robots-Tag:noindex
X-PUBLISHED-TTL:PT1H
BEGIN:VTIMEZONE
TZID:Europe/Paris
BEGIN:DAYLIGHT
TZOFFSETFROM:+0100
TZOFFSETTO:+0200
TZNAME:CEST
DTSTART:20250330T010000
END:DAYLIGHT
BEGIN:STANDARD
TZOFFSETFROM:+0200
TZOFFSETTO:+0100
TZNAME:CET
DTSTART:20251026T010000
END:STANDARD
END:VTIMEZONE
BEGIN:VEVENT
DTSTART;TZID=Europe/Paris:20250316T083000
DTEND;TZID=Europe/Paris:20250316T170000
DTSTAMP:20260423T181743
CREATED:20241030T170252Z
LAST-MODIFIED:20241030T171826Z
UID:8149-1742113800-1742144400@automotive-oldtimers-club.be
SUMMARY:Balade à deux francs
DESCRIPTION:Balade à deux francs \nTexte à venir
URL:https://automotive-oldtimers-club.be/event/balade-a-deux-francs/
LOCATION:Chez Nicolas\, Drève des Tilloux\, 9\, Frandeux\, 5580\, Belgique
ATTACH;FMTTYPE=image/jpeg:https://automotive-oldtimers-club.be/wp-content/uploads/2022/02/peugeot-504-A.jpg
END:VEVENT
END:VCALENDAR