BEGIN:VCALENDAR
VERSION:2.0
PRODID:-//Automotive-Oldtimers-Club - ECPv6.0.13.1//NONSGML v1.0//EN
CALSCALE:GREGORIAN
METHOD:PUBLISH
X-ORIGINAL-URL:https://automotive-oldtimers-club.be
X-WR-CALDESC:évènements pour Automotive-Oldtimers-Club
REFRESH-INTERVAL;VALUE=DURATION:PT1H
X-Robots-Tag:noindex
X-PUBLISHED-TTL:PT1H
BEGIN:VTIMEZONE
TZID:Europe/Paris
BEGIN:DAYLIGHT
TZOFFSETFROM:+0100
TZOFFSETTO:+0200
TZNAME:CEST
DTSTART:20240331T010000
END:DAYLIGHT
BEGIN:STANDARD
TZOFFSETFROM:+0200
TZOFFSETTO:+0100
TZNAME:CET
DTSTART:20241027T010000
END:STANDARD
END:VTIMEZONE
BEGIN:VEVENT
DTSTART;TZID=Europe/Paris:20240531T190000
DTEND;TZID=Europe/Paris:20240531T220000
DTSTAMP:20260424T065654
CREATED:20231113T145827Z
LAST-MODIFIED:20240307T194055Z
UID:7211-1717182000-1717192800@automotive-oldtimers-club.be
SUMMARY:AOC - Réunion repas
DESCRIPTION: Réunion repas de l’AOC – Vendredi 31 mai 2024 \nAuberge du Prévost \nFourneau Saint Michel\, 2  \n6870 SAINT HUBERT \nMENU \nApéritif (19h30) \nEntrée (Au choix-à préciser lors de la réservation) \nCromeski maison au fromage d’Orval \nOu \nPetit fleuri (fromage frais local)\, jambon d’Ardennes\, servi chaud \n  \nPlat (Au choix – à préciser lors de la réservation) \nFilet de sandre au cresson\, pommes natures \nOu \nFilet de bœuf à l’italienne\, frites \nDessert \nTrio de mignardises servies sur assiette \nCafé ou thé  \n  \nAccompagnement « à volonté » :  \nVins (sélection de la maison)\, bière simple\, eau plate\, eau pétillante\, coca\, orangeade\, citronnade\, jus d’orange. \nLe tout au prix de 54 euros par personne. \nLe paiement au compte BE93 7320 3925 7567 de l’AOC fera office de réservation.  Il devra être effectué avant le 18 mai 2024. \nIl faut aussi compléter l’agenda sur le site internet de l’AOC et renvoyer le bon de réservation ci-joint. \nSi l’un d’entre vous devait rencontrer des difficultés pour ce faire\, il peut bien entendu prendre contact avec notre dévoué secrétaire. \n  \n  \n  \n  \n  \nBON DE RESERVATION POUR LE REPAS AOC du 31 mai 2024 \n  \n  \n  \nMembre                                                                                            Accompagnant \nNom \nPrénom \nNuméro de membre AOC-xxx \nChoix de l’entrée \n…….x Cromeski maison \n…… x Petit fleuri\, jambon d’Ardennes \nChoix du plat : \n………X  Filet de sandre au cresson\, pdt \n………X..Filet de bœuf\, frites \nJ’ai versé        X54 Euros soit ……….Euros au compte de l’AOC ce \n  \nJe souhaite\, si possible\, être à la table de : \n– \nCe document doit être renvoyé par mail au secrétaire avec copie au président. \nDocument d’inscription : Ici (Word) \n 
URL:https://automotive-oldtimers-club.be/event/aoc-reunion-repas/
ATTACH;FMTTYPE=image/jpeg:https://automotive-oldtimers-club.be/wp-content/uploads/2022/12/petit-logo-aoc-reunion-repas.jpg
END:VEVENT
END:VCALENDAR