BEGIN:VCALENDAR
VERSION:2.0
PRODID:-//Automotive-Oldtimers-Club - ECPv6.0.13.1//NONSGML v1.0//EN
CALSCALE:GREGORIAN
METHOD:PUBLISH
X-WR-CALNAME:Automotive-Oldtimers-Club
X-ORIGINAL-URL:https://automotive-oldtimers-club.be
X-WR-CALDESC:évènements pour Automotive-Oldtimers-Club
REFRESH-INTERVAL;VALUE=DURATION:PT1H
X-Robots-Tag:noindex
X-PUBLISHED-TTL:PT1H
BEGIN:VTIMEZONE
TZID:Europe/Paris
BEGIN:DAYLIGHT
TZOFFSETFROM:+0100
TZOFFSETTO:+0200
TZNAME:CEST
DTSTART:20240331T010000
END:DAYLIGHT
BEGIN:STANDARD
TZOFFSETFROM:+0200
TZOFFSETTO:+0100
TZNAME:CET
DTSTART:20241027T010000
END:STANDARD
END:VTIMEZONE
BEGIN:VEVENT
DTSTART;TZID=Europe/Paris:20240519T090000
DTEND;TZID=Europe/Paris:20240519T170000
DTSTAMP:20260424T080954
CREATED:20231113T145400Z
LAST-MODIFIED:20240321T105142Z
UID:7206-1716109200-1716138000@automotive-oldtimers-club.be
SUMMARY:Vî coyons
DESCRIPTION:Les-Vieux-Tacots-des-Vi-Coyons-2024.pdf  \n  \nInscription en PDF : Ici \nInscription en Word : Ici \n 
URL:https://automotive-oldtimers-club.be/event/vi-coyons-2/
LOCATION:Marche en Famenne\, Rue des 3 Bosses (Police) - Vieille route de Marloie\, Marche en Famenne
ATTACH;FMTTYPE=image/jpeg:https://automotive-oldtimers-club.be/wp-content/uploads/2023/11/vi-coyons-2024-pic-1.jpg
END:VEVENT
END:VCALENDAR