BEGIN:VCALENDAR
VERSION:2.0
PRODID:-//Automotive-Oldtimers-Club - ECPv6.0.13.1//NONSGML v1.0//EN
CALSCALE:GREGORIAN
METHOD:PUBLISH
X-WR-CALNAME:Automotive-Oldtimers-Club
X-ORIGINAL-URL:https://automotive-oldtimers-club.be
X-WR-CALDESC:évènements pour Automotive-Oldtimers-Club
REFRESH-INTERVAL;VALUE=DURATION:PT1H
X-Robots-Tag:noindex
X-PUBLISHED-TTL:PT1H
BEGIN:VTIMEZONE
TZID:Europe/Paris
BEGIN:DAYLIGHT
TZOFFSETFROM:+0100
TZOFFSETTO:+0200
TZNAME:CEST
DTSTART:20240331T010000
END:DAYLIGHT
BEGIN:STANDARD
TZOFFSETFROM:+0200
TZOFFSETTO:+0100
TZNAME:CET
DTSTART:20241027T010000
END:STANDARD
END:VTIMEZONE
BEGIN:VEVENT
DTSTART;TZID=Europe/Paris:20240427T080000
DTEND;TZID=Europe/Paris:20240428T170000
DTSTAMP:20260424T093910
CREATED:20231113T145117Z
LAST-MODIFIED:20240213T145233Z
UID:7203-1714204800-1714323600@automotive-oldtimers-club.be
SUMMARY:AOC - Escapade en Argone (Week-end de 2 jours)
DESCRIPTION:  \nESCAPADE EN ARGONNE  \nSamedi 27 avril 2024   \n9h00 : Petit déjeuner  à Carlsbourg (rue des Ronchis \, 23)   \n9h30 : Départ vers Buzancy. Suivre l’itinéraire « Aller 1 » – 76 kms \n10h45 : Visite du haras et du musée du cheval ardennais – Communs du Château d’Augeard \n \n  \n11h45 : Départ vers Vienne-le-Château. Suivre l’itinéraire « Aller 2 » – 49kms \n13h00 : Repas rapide à L’hôtel restaurant « Le Tulipier » (rue Saint Jacques) à Vienne-le-Château.  Apéritif – Assiette de Charcuteries\, fromages et salade – Moelleux au chocolat avec crème anglaise  Vin blanc\, vin rouge\, eau plate\, eau gazeuse et café compris. \n15h00 : Visite du Camp de la vallée Moreau (Camp pour les troupes allemandes au repos en 14-18) \n \n  \n17h15 : Retour à l’hôtel *** « Le Tulipier » (chambres avec douche ou bain\, WC\, WIFI gratuit\, parking  sécurisé\, piscine intérieure). \n \n19h30 : Menu Formule ½ pension gastronomique boissons comprises   \nSangria champenoise avec petits feuilletés en accompagnement \nFlan de loup de mer sauce champagne \nGrenadin de veau\, galette de pommes de terre sauce côteaux champenois rouge\nDuo de fromages et sa tulipe de salade \nParfait glacé nougatine au coulis de fruits rouges \n   \nDimanche 28 avril 2024   \n9h30 : Départ hôtel   \n10h00 : Main de Massiges et Atelier Musée de la Main de Massiges (9\, rue de Virginy)  Raymond Kneip – Ornemaniste métallique – MOF 1989 \n \n11h30 : Départ pour Vouziers   \n  \n13h00 : Repas à l’Argonne Hôtel (119\, route de Reims à Vouziers) \nKir en apéritif \nAssiette de saumon fumé et blinis \nFilet Mignon de porc sauce calvados \nPetite assiette gourmande \nBoissons comprises \n15h15 : Retour vers la Belgique   \n16h15 : Dernier verre à la Brasserie de Rochehaut (rue du Palis\, 85) \n  \nLe prix pour l’ensemble du week-end s’élève à 400 euros par couple. (212 euros en single)   \n  \nLe  paiement  de  200  euros  par  couple  au  compte  BE93  7320  3925  7567  de  l’AOC  fera  office  de  réservation. Il devra être effectué avant le 15 février 2024. \nLe solde de 200 euros devra être versé en avril.   \n  \n____________________________________________   \n  \nN’oubliez surtout pas de remplir le document ci-dessous ainsi que l’agenda de notre site internet   \nSi  l’un  d’entre  vous  devait  rencontrer  des  difficultés  pour  ce  faire\,  il  peut  bien  entendu  comme  à \nl’habitude prendre contact avec notre dévoué secrétaire. \n  \n  \nRéservation : Week-end Escapade en Argonne les 27 et 28 avril 2024 \n  \n  \nPilote                                                                                                    Copilote \nNom \nPrénom                                                                                               ……………………… \nNuméro de membre AOC— \nJe verse        euros au compte de l’AOC \n  \n  \nCe  document  doit  être  renvoyé  par  mail  au  secrétaire  (se********@au***********************.be)  avec copie au président (pr*******@au***********************.be). \n  \nINSCRIPTIONS ESCAPADE EN ARGONE EN PDF : ESCAPADE EN ARGONE Présentation \n 
URL:https://automotive-oldtimers-club.be/event/aoc-escapade-en-argone-week-end-de-2-jours/
LOCATION:Forrières
ATTACH;FMTTYPE=image/jpeg:https://automotive-oldtimers-club.be/wp-content/uploads/2023/11/Argone-3.jpg
END:VEVENT
END:VCALENDAR