BEGIN:VCALENDAR
VERSION:2.0
PRODID:-//Automotive-Oldtimers-Club - ECPv6.0.13.1//NONSGML v1.0//EN
CALSCALE:GREGORIAN
METHOD:PUBLISH
X-ORIGINAL-URL:https://automotive-oldtimers-club.be
X-WR-CALDESC:évènements pour Automotive-Oldtimers-Club
REFRESH-INTERVAL;VALUE=DURATION:PT1H
X-Robots-Tag:noindex
X-PUBLISHED-TTL:PT1H
BEGIN:VTIMEZONE
TZID:Europe/Paris
BEGIN:DAYLIGHT
TZOFFSETFROM:+0100
TZOFFSETTO:+0200
TZNAME:CEST
DTSTART:20240331T010000
END:DAYLIGHT
BEGIN:STANDARD
TZOFFSETFROM:+0200
TZOFFSETTO:+0100
TZNAME:CET
DTSTART:20241027T010000
END:STANDARD
END:VTIMEZONE
BEGIN:VEVENT
DTSTART;TZID=Europe/Paris:20240421T080000
DTEND;TZID=Europe/Paris:20240421T170000
DTSTAMP:20260424T094054
CREATED:20231210T080136Z
LAST-MODIFIED:20231212T154533Z
UID:7249-1713686400-1713718800@automotive-oldtimers-club.be
SUMMARY:Rallye des ancêtres - Carlsbourg
DESCRIPTION:Voici les tarifs 2024 :\n\nLe montant de l’inscription est :\n\nPour le déjeuner la balade\, l’apéritif et le repas :  50 eur pour le chauffeur et 35 eur pour l’accompagnant (enfant jusque 12 ans : 15 eur)\n\nPour le déjeuner\, la balade\, l’apéritif (sans le repas) : 25 eur pour le chauffeur et 15 eur pour l’accompagnant\n\nCe montant doit être versé sur le compte BE13 0343 0136 7039 des Amis du Patro de carlsbourg – communication Rallye 2024 /  …. chauf + … acc\n\n\nVos membres peuvent nous contacter (par mail ou par GSM) si besoin de plus d’informations.\n\nNous vous souhaitons une belle journée.\n\nPour les organisateurs du Rallye 2024\,\nJean-Louis COSTARD
URL:https://automotive-oldtimers-club.be/event/rallye-des-ancetres-carlsbourg/
LOCATION:Salle Notre Maison\, Grand Rue 7\, Carlsbourg\, 6850\, Belgique
ATTACH;FMTTYPE=image/jpeg:https://automotive-oldtimers-club.be/wp-content/uploads/2023/12/Rallye-Carsbourg-mini.jpg
END:VEVENT
END:VCALENDAR