BEGIN:VCALENDAR
VERSION:2.0
PRODID:-//Automotive-Oldtimers-Club - ECPv6.0.13.1//NONSGML v1.0//EN
CALSCALE:GREGORIAN
METHOD:PUBLISH
X-ORIGINAL-URL:https://automotive-oldtimers-club.be
X-WR-CALDESC:évènements pour Automotive-Oldtimers-Club
REFRESH-INTERVAL;VALUE=DURATION:PT1H
X-Robots-Tag:noindex
X-PUBLISHED-TTL:PT1H
BEGIN:VTIMEZONE
TZID:Europe/Paris
BEGIN:DAYLIGHT
TZOFFSETFROM:+0100
TZOFFSETTO:+0200
TZNAME:CEST
DTSTART:20230326T010000
END:DAYLIGHT
BEGIN:STANDARD
TZOFFSETFROM:+0200
TZOFFSETTO:+0100
TZNAME:CET
DTSTART:20231029T010000
END:STANDARD
END:VTIMEZONE
BEGIN:VEVENT
DTSTART;TZID=Europe/Paris:20230820T093000
DTEND;TZID=Europe/Paris:20230820T170000
DTSTAMP:20260424T214700
CREATED:20221220T154146Z
LAST-MODIFIED:20230625T104945Z
UID:6446-1692523800-1692550800@automotive-oldtimers-club.be
SUMMARY:Balade AOC - « Sur la route des Elfes - Parcours inédit»  Dimanche 20 août 2023
DESCRIPTION:« Sur la route des Elfes – Parcours inédit»\nDimanche 20 août 2023\n \nPROGRAMME \nRendez-vous à la résidence « Les Amandiers » (rue du val d’or\, 8 à MAFFE) à 9h30 \nParking réservé à l’arrière du bâtiment. \nPetit-déjeuner : \n1 croissant et 1 pain au chocolat par personne \nCafé et jus d’orange à volonté. \nDépart de la première boucle à partir 10h15 \nParcours d’environ 50 kilomètres en flèché mètré \nVisite du château d’Anthisnes (vers 10h45) suivie d’une pause apéro \nRepas à la « guinguette des Elfes » à Raborive vers 12h30 \n  \n  \nApéritif : 3 galopins de bière elfique \n  \nRepas :  \nAu choix : \n– Boulets à l’Elfique\, frites maison\, compotée de pommes \n– Américain Black Angus préparé par vos soins \n– Truite simplement meunière\, légumes verts\, mousseline aux herbes. \nUne boisson (bière\, verre de vin ou soft) par personne \n  \nDessert : Café gourmand \nDépart de la deuxième boucle d’environ 60 kilomètres vers 14h30 \n  \n  \nDernier verre à l’Hôtel Restaurant Taverne « Les Mignées » (rue de Marche\, 110 à Barvaux) à partir de 16h \n  \nLe prix est fixé à 50 euros par personne. \nLe paiement au compte BE93 7320 3925 7567 de l’AOC fera office de réservation. Il devra être effectué avant le 8 août 2023. \n  \nIl faut aussi impérativement remplir le document en annexe ainsi que l’agenda de notre site internet \nSi l’un d’entre vous devait rencontrer des difficultés pour ce faire\, il peut bien entendu prendre contact avec notre dévoué secrétaire. \n  \n  \nBON DE RESERVATION POUR LA BALADE AOC du 20 août 2023 \n  \n  \nRéservation de la journée : \n  \nPilote                                                                                                  Copilote                              Accompagnants \nNom ………………                                                                                ……………………….                ………………. \nPrénom ……………………                                                                  ………………………                 ………………. \nNuméro de membre AOC —- \n  \n  \nNombre de repas : \nChoix du Menu :  \n—–X Boulets \n—–X Américain \n—–X Truite \n————.X 50  Euros \n—–X Menu enfant de moins de 12 ans (menu adapté) \n————-X 25 Euros \nJe verse            Euros au compte de l’AOC \n  \nLes premiers inscrits auront priorité.  \n  \nCe document doit être renvoyé par mail au secrétaire avec copie au président. \n  \nInscription en Word : ICI \nInscription en Pdf : ICI \n  \n 
URL:https://automotive-oldtimers-club.be/event/balade-club/
LOCATION:« Les Amandiers »\, Rue du Val d'Or 8\, Maffe\, 5374\, Belgique
ATTACH;FMTTYPE=image/jpeg:https://automotive-oldtimers-club.be/wp-content/uploads/2022/12/petit-logo-aoc-balade-club.jpg
END:VEVENT
END:VCALENDAR