BEGIN:VCALENDAR
VERSION:2.0
PRODID:-//Automotive-Oldtimers-Club - ECPv6.0.13.1//NONSGML v1.0//EN
CALSCALE:GREGORIAN
METHOD:PUBLISH
X-ORIGINAL-URL:https://automotive-oldtimers-club.be
X-WR-CALDESC:évènements pour Automotive-Oldtimers-Club
REFRESH-INTERVAL;VALUE=DURATION:PT1H
X-Robots-Tag:noindex
X-PUBLISHED-TTL:PT1H
BEGIN:VTIMEZONE
TZID:Europe/Paris
BEGIN:DAYLIGHT
TZOFFSETFROM:+0100
TZOFFSETTO:+0200
TZNAME:CEST
DTSTART:20230326T010000
END:DAYLIGHT
BEGIN:STANDARD
TZOFFSETFROM:+0200
TZOFFSETTO:+0100
TZNAME:CET
DTSTART:20231029T010000
END:STANDARD
END:VTIMEZONE
BEGIN:VEVENT
DTSTART;TZID=Europe/Paris:20230723T090000
DTEND;TZID=Europe/Paris:20230723T180000
DTSTAMP:20260424T232036
CREATED:20230702T181224Z
LAST-MODIFIED:20230714T153330Z
UID:6854-1690102800-1690135200@automotive-oldtimers-club.be
SUMMARY:BALADE AOC - Balade touristique en ancêtres  « Sur les routes de Patton »  Dimanche 23 juillet 2023
DESCRIPTION:Balade touristique en ancêtres \n« Sur les routes de Patton » \nDimanche 23 juillet 2023 \n \nPROGRAMME \nRendez-vous sera fixé dans la région de Rochefort entre 9 et 10h \n  \nLes participants recevront la veille du départ un mail de Philippe JeanBaptiste qui contiendra la description du point de départ. Attention vérifier vos spams la veille. \nA ce point de départ\, une personne vous attendra et vous donnera votre premier ordre de mission. \nA l’aide des informations qui seront données\, il faudra utiliser Google pour connaître le premier lieu de destination. \nVous devrez vous rendre à l’endroit identifié de manière libre en vous aidant d’un GPS ou d’une carte \n  \nA chaque point de rendez-vous\, un nouvel ordre de mission vous sera donné et ainsi de suite jusqu’à la destination de midi. \nA midi : \nTemps libre pour visite ou petite restauration (non réservée préalablement) \nPossibilité de pique-nique. Il y a aussi dans les environs d’autres lieux où se restaurer. \nPrévoir un parking à payer sur place au prix de 5 euros \nAprès-midi \nDépart vers 14h30 suivant le même principe d’ordres de missions mais avec moins d’étapes \n  \nArrivée entre 16h et 17h pour le dernier verre (quelques part dans la région de Nassogne) \n  \nIl faut\, comme à l’habitude\,  remplir le document en annexe ainsi que l’agenda de notre site internet \nSi l’un d’entre vous devait rencontrer des difficultés pour ce faire\, il peut bien entendu prendre contact avec notre dévoué secrétaire. \nMERCI DE RESERVER RAPIDEMENT \n  \nBON DE RESERVATION POUR LA BALADE AOC du 23 juillet 2023 \n  \n  \nRéservation de la journée : \n  \nPilote                                                                                                  Copilote                              Accompagnants \nNom ………………                                                                                ……………………….                ………………. \nPrénom ……………………                                                                  ………………………                 ………………. \nNuméro de membre AOC —- \n  \n   \nCe document doit être renvoyé par mail à Philippe JeanBaptiste (ph***************@gm***.com) avec copie au secrétaire et au président. \nInscription en Word : Ici \nInscription en PDF : Ici \n  \nATTENTION \nComme aucune réservation n’est prévue\, en cas de météo défavorable\, cette balade pourrait être reportée à une autre date
URL:https://automotive-oldtimers-club.be/event/aoc-balade-touristique-en-ancetres-sur-les-routes-de-patton-dimanche-23-juillet-2023/
LOCATION:Environs de Rochefort\, Par email la veille\, Vérifier vos spams!\, Belgique
ATTACH;FMTTYPE=image/jpeg:https://automotive-oldtimers-club.be/wp-content/uploads/2022/12/logo-aoc-balade-club.jpg
ORGANIZER;CN="Philippe%20JeanBaptiste":MAILTO:phil.jeanbaptiste@gmail.com
END:VEVENT
END:VCALENDAR