BEGIN:VCALENDAR
VERSION:2.0
PRODID:-//Automotive-Oldtimers-Club - ECPv6.0.13.1//NONSGML v1.0//EN
CALSCALE:GREGORIAN
METHOD:PUBLISH
X-ORIGINAL-URL:https://automotive-oldtimers-club.be
X-WR-CALDESC:évènements pour Automotive-Oldtimers-Club
REFRESH-INTERVAL;VALUE=DURATION:PT1H
X-Robots-Tag:noindex
X-PUBLISHED-TTL:PT1H
BEGIN:VTIMEZONE
TZID:Europe/Paris
BEGIN:DAYLIGHT
TZOFFSETFROM:+0100
TZOFFSETTO:+0200
TZNAME:CEST
DTSTART:20230326T010000
END:DAYLIGHT
BEGIN:STANDARD
TZOFFSETFROM:+0200
TZOFFSETTO:+0100
TZNAME:CET
DTSTART:20231029T010000
END:STANDARD
END:VTIMEZONE
BEGIN:VEVENT
DTSTART;TZID=Europe/Paris:20230611T083000
DTEND;TZID=Europe/Paris:20230611T170000
DTSTAMP:20260425T010424
CREATED:20221220T153744Z
LAST-MODIFIED:20230509T152741Z
UID:6440-1686472200-1686502800@automotive-oldtimers-club.be
SUMMARY:« Grand prix rétro d’Yvois » (Carignan)
DESCRIPTION:« Grand prix rétro d’Yvois » (Carignan)\nDimanche 11 juin 2023\n \nPROGRAMME \n8h30 : petit déjeuner\nA Carlsbourg (chez Dominique Thiry – rue des Ronchis\, 23 – 6850 Carlsbourg).\n1 croissant et 1 pain au chocolat par personne.\nEn accompagnement : café\, eau plate\, eau pétillante\, jus d’orange. \nAux environs de 9h15 : départ vers Carignan\nParcours avec un Road book simplifié.\nVers 10h : arrivée à Carignan \nRepas de midi\nHôtel « Le grand cerf » à Carignan – Salle privatisée.\nApéritif et mises en bouche.\nBarbecue 4 viandes (saucisses\, merguez\, lards\, ribs) – pommes de terre en chemise- salade bar.\nVins (sélection maison) compris pendant le repas (2 verres par personne).\nEau plate\, eau pétillante.\nCafé. \nLe prix pour le petit déjeuner et le repas est de 40 euros par personne.\nLe paiement au compte BE93 7320 3925 7567 de l’AOC fera office de réservation. Il devra être effectué avant le 1er juin 2023. \nIl faut aussi impérativement remplir le document en annexe ainsi que l’agenda de notre site internet.\nSi l’un d’entre vous devait rencontrer des difficultés pour ce faire\, il peut bien entendu prendre contact avec notre dévoué secrétaire. \nBON DE RESERVATION POUR LE GRAND PRIX RETRO DU 11/06/2023\nPilote Copilote Accompagnant(s)\nNom ……………… ………………………. ……………………………\nPrénom …………………… …………………….… …………………………….\nNuméro de membre AOC : —- \nNombre de repas :\n……..X 40 Euros\nJe verse Euros au compte de l’AOC \nCe document doit être renvoyé par mail au secrétaire (se********@au***********************.be) avec copie au président (pr*******@au***********************.be). \n  \nDocument d’inscription en Word : Ici \nDocument Pdf : ici
URL:https://automotive-oldtimers-club.be/event/balade-circuit/
LOCATION:Chez Dominique\, rue des Ronchis\, 23\, Carlsbourg\, 6850\, Belgique
ATTACH;FMTTYPE=image/jpeg:https://automotive-oldtimers-club.be/wp-content/uploads/2022/12/petit-logo-carignan.jpg
END:VEVENT
END:VCALENDAR